BEGIN:VCALENDAR
VERSION:2.0
PRODID:-//ChamberMaster//Event Calendar 2.0//EN
METHOD:PUBLISH
X-PUBLISHED-TTL:P1H
REFRESH-INTERVAL:P1H
CALSCALE:GREGORIAN
BEGIN:VTIMEZONE
TZID:America/Chicago
BEGIN:DAYLIGHT
RRULE:FREQ=YEARLY;BYMONTH=3;BYDAY=2SU
DTSTART:20070101T000000
TZOFFSETFROM:-0600
TZOFFSETTO:-0500
TZNAME:Central Daylight Time
END:DAYLIGHT
BEGIN:STANDARD
RRULE:FREQ=YEARLY;BYMONTH=11;BYDAY=1SU
DTSTART:20070101T000000
TZOFFSETFROM:-0500
TZOFFSETTO:-0600
TZNAME:Central Standard Time
END:STANDARD
END:VTIMEZONE
BEGIN:VEVENT
DTSTART;TZID=America/Chicago:20260610T110000
DTEND;TZID=America/Chicago:20260610T130000
X-MICROSOFT-CDO-ALLDAYEVENT:FALSE
SUMMARY:Safety Series: Heat-Related Illness
DESCRIPTION:As the summer months approach in Texas\, maintaining safety on-site requires specialized knowledge and quick action. This comprehensive course is designed to equip participants with the critical skills needed to manage environmental hazards and life-threatening emergencies in high-stakes environments.  What You Will Learn:Heat-Related Illness: Master the "Prevent\, Recognize\, Treat" framework to combat Texas's most persistent seasonal threat. "Stop the Bleed" Training: Learn life-saving techniques to control catastrophic bleeding. Emergency Response Practices: Build a solid foundation in general emergency protocols to ensure a calm\, effective reaction to any incident. Advanced First Aid: Move beyond basic care with advanced techniques tailored for complex scenarios.\nExpert Instruction: The class is led by Amphibious Medics\, industry-leading experts specializing in the unique medical needs of construction sites. Their real-world experience ensures you receive practical\, actionable training that can be directly applied to the field.
X-ALT-DESC;FMTTYPE=text/html:<!DOCTYPE html><html><head><title></title></head><body aria-disabled="false"><p>As the summer months approach in Texas\, maintaining safety on-site requires specialized knowledge and quick action. This comprehensive course is designed to equip participants with the critical skills needed to manage environmental hazards and life-threatening emergencies in high-stakes environments. &nbsp\;</p><p><strong fr-original-style="" style="font-weight: 700\;">What You Will Learn:</strong></p><ul fr-original-style="list-style-type: circle\;" style="list-style-type: circle\; list-style-position: inside\;"><li><strong fr-original-style="" style="font-weight: 700\;">Heat-Related Illness</strong>: Master the &quot\;Prevent\, Recognize\, Treat&quot\; framework to combat Texas&rsquo\;s most persistent seasonal threat.&nbsp\;</li><li><strong fr-original-style="" style="font-weight: 700\;">&quot\;Stop the Bleed&quot\; Training</strong>: Learn life-saving techniques to control catastrophic bleeding.&nbsp\;</li><li><strong fr-original-style="" style="font-weight: 700\;">Emergency Response Practices:</strong> Build a solid foundation in general emergency protocols to ensure a calm\, effective reaction to any incident.&nbsp\;</li><li><strong fr-original-style="" style="font-weight: 700\;">Advanced First Aid:</strong> Move beyond basic care with advanced techniques tailored for complex scenarios.</li></ul><p><br></p><p><strong fr-original-style="" style="font-weight: 700\;">Expert Instruction:</strong> The class is led by Amphibious Medics\, industry-leading experts specializing in the unique medical needs of construction sites. Their real-world experience ensures you receive practical\, actionable training that can be directly applied to the field.</p></body></html>
LOCATION:2600 Longhorn Blvd.\, Suite 105 Austin TX 78758
UID:e.3566.1450774
SEQUENCE:3
DTSTAMP:20260425T150127Z
URL:https://members.abccentraltexas.org/eventcalendar/Details/safety-series-heat-related-illness-1718424?sourceTypeId=Hub
END:VEVENT
END:VCALENDAR
